BEGIN:VCALENDAR
VERSION:2.0
PRODID:-//ExpressionEngine Easy iCalendar plugin//NONSGML v2.0.1//EN
X-WR-TIMEZONE:America/Chicago
X-WR-CALNAME:Upcoming Auctions
BEGIN:VEVENT
UID:89005
DTSTAMP:20221029T100700
DTSTART:20221029T100700
DTEND:20221029T110700
SUMMARY:FALL CLASSIC CAR AUCTION
LOCATION:4000 Olivet Church Road\, Paducah\, KY 42001\, US
DESCRIPTION:SATURDAY OCTOBER 29th!!!  
URL:https://www.rareauctions.com/auctions/detail/ClassicCar2022
SEQUENCE:1
END:VEVENT
END:VCALENDAR