BEGIN:VCALENDAR
VERSION:2.0
PRODID:-//ExpressionEngine Easy iCalendar plugin//NONSGML v2.0.1//EN
X-WR-TIMEZONE:America/Chicago
X-WR-CALNAME:Upcoming Auctions
BEGIN:VEVENT
UID:100432
DTSTAMP:20230522T100700
DTSTART:20230522T100700
DTEND:20230531T100700
SUMMARY:ABSOLUTE ONLINE ONLY AUCTION • +/-1.55 ACRE WATERFRONT TRA
 CT
LOCATION:\, Kuttawa\, KY \, US
DESCRIPTION:+/-1.55 Acre Waterfront Tract on Gorgeous Lake Barkley!
URL:https://www.rareauctions.com/auctions/detail/bw100432
SEQUENCE:1
END:VEVENT
END:VCALENDAR