BEGIN:VCALENDAR
VERSION:2.0
PRODID:-//ExpressionEngine Easy iCalendar plugin//NONSGML v2.0.1//EN
X-WR-TIMEZONE:America/Chicago
X-WR-CALNAME:Upcoming Auctions
BEGIN:VEVENT
UID:100481
DTSTAMP:20230523T170700
DTSTART:20230523T170700
DTEND:20230523T180700
SUMMARY:ABSOLUTE ESTATE AUCTION - 11 TRACTS/51 LOTS
LOCATION:Craven Drive\, West Paducah\, KY \, US
DESCRIPTION:ABSOLUTE ESTATE AUCTION
URL:https://www.rareauctions.com/auctions/detail/bw100481
SEQUENCE:1
END:VEVENT
END:VCALENDAR