BEGIN:VCALENDAR
VERSION:2.0
PRODID:-//ExpressionEngine Easy iCalendar plugin//NONSGML v2.0.1//EN
X-WR-TIMEZONE:America/Chicago
X-WR-CALNAME:Upcoming Auctions
BEGIN:VEVENT
UID:100944
DTSTAMP:20230518T100700
DTSTART:20230518T100700
DTEND:20230522T100700
SUMMARY:ONLINE ONLY AUCTION
LOCATION:4000 Olivet Church Road\, Paducah\, KY 42001\, US
DESCRIPTION:Vehicles\, Firearms\, Diamond/Gold Rings\, Survey Equipment\, A
 mmo
URL:https://www.rareauctions.com/auctions/detail/bw100944
SEQUENCE:1
END:VEVENT
END:VCALENDAR