BEGIN:VCALENDAR
VERSION:2.0
PRODID:-//ExpressionEngine Easy iCalendar plugin//NONSGML v2.0.1//EN
X-WR-TIMEZONE:America/Chicago
X-WR-CALNAME:Upcoming Auctions
BEGIN:VEVENT
UID:100953
DTSTAMP:20230608T100700
DTSTART:20230608T100700
DTEND:20230608T110700
SUMMARY:ABSOLUTE ESTATE AUCTION - HAZEL\, KY
LOCATION:{location}
DESCRIPTION:4 Bedroom 1 ½ Bath Home • ±1919 sq ft Under Roof • We
 ll Landscaped • ±1 ½ Acre of Land • ±1600 sq ft Gara
 ge/Shop
URL:https://www.rareauctions.com/auctions/detail/bw100953
SEQUENCE:1
END:VEVENT
END:VCALENDAR