BEGIN:VCALENDAR
VERSION:2.0
PRODID:-//ExpressionEngine Easy iCalendar plugin//NONSGML v2.0.1//EN
X-WR-TIMEZONE:America/Chicago
X-WR-CALNAME:Upcoming Auctions
BEGIN:VEVENT
UID:101620
DTSTAMP:20230615T170700
DTSTART:20230615T170700
DTEND:20230615T180700
SUMMARY:ABSOLUTE AUCTION - GRAND RIVERS\, KY PROPERTY
LOCATION:994 Dover Road\, Grand Rivers\, KY 42045\, US
DESCRIPTION:Absolute Estate Auction 2-4 Bedrooms • 2 Baths • +/-2400
  Sq. Ft. Basement • Deck • Patio • Carport Location\, L
 ocation\, Location!
URL:https://www.rareauctions.com/auctions/detail/bw101620
SEQUENCE:1
END:VEVENT
END:VCALENDAR