BEGIN:VCALENDAR
VERSION:2.0
PRODID:-//ExpressionEngine Easy iCalendar plugin//NONSGML v2.0.1//EN
X-WR-TIMEZONE:America/Chicago
X-WR-CALNAME:Upcoming Auctions
BEGIN:VEVENT
UID:101783
DTSTAMP:20230622T170700
DTSTART:20230622T170700
DTEND:20230622T180700
SUMMARY:ABSOLUTE ESTATE AUCTION • LAKE BARKLEY WATERFRONT HOME
LOCATION:305 Riverwood Blvd\, Kuttawa\, KY 42055\, US
DESCRIPTION:Beautiful Waterfront Home!
URL:https://www.rareauctions.com/auctions/detail/bw101783
SEQUENCE:1
END:VEVENT
END:VCALENDAR