BEGIN:VCALENDAR
VERSION:2.0
PRODID:-//ExpressionEngine Easy iCalendar plugin//NONSGML v2.0.1//EN
X-WR-TIMEZONE:America/Chicago
X-WR-CALNAME:Upcoming Auctions
BEGIN:VEVENT
UID:102726
DTSTAMP:20230701T100700
DTSTART:20230701T100700
DTEND:20230707T100700
SUMMARY:ABSOLUTE ONLINE ONLY ESTATE AUCTION • +/-4 ACRE TRACT
LOCATION:5060 Epperson Road\, Paducah\, KY 42003\, US
DESCRIPTION:Excellent Tract of Ground!
URL:https://www.rareauctions.com/auctions/detail/bw102726
SEQUENCE:1
END:VEVENT
END:VCALENDAR