BEGIN:VCALENDAR
VERSION:2.0
PRODID:-//ExpressionEngine Easy iCalendar plugin//NONSGML v2.0.1//EN
X-WR-TIMEZONE:America/Chicago
X-WR-CALNAME:Upcoming Auctions
BEGIN:VEVENT
UID:104207
DTSTAMP:20230727T100700
DTSTART:20230727T100700
DTEND:20230731T100700
SUMMARY:ONLINE ONLY FIREARM AUCTION - Summer 2023
LOCATION:4000 Olivet Church Road\, Paducah\, KY 42001\, US
DESCRIPTION:Over 163 Black Powder Long Guns\, Pistols\, Rifles\, Military F
 irearms\, Shotguns\, & Other Weapons!
URL:https://www.rareauctions.com/auctions/detail/bw104207
SEQUENCE:1
END:VEVENT
END:VCALENDAR