BEGIN:VCALENDAR
VERSION:2.0
PRODID:-//ExpressionEngine Easy iCalendar plugin//NONSGML v2.0.1//EN
X-WR-TIMEZONE:America/Chicago
X-WR-CALNAME:Upcoming Auctions
BEGIN:VEVENT
UID:104272
DTSTAMP:20230810T100700
DTSTART:20230810T100700
DTEND:20230810T110700
SUMMARY:ABSOLUTE AUCTION - METROPOLIS
LOCATION:{location}
DESCRIPTION:SOLD: Someone made an outstanding offer bid just after the p
 review and the seller took it! All real estate auctions are 
 typically subject to prior sale. It’s practically a nation
 wide phenomenon and certainly a local and regional one. The 
 bidding starts almost immediately after we sign the listing
  agreement\, often before the sign goes in the yard. It’s h
 appening over and over. The seller loves the early bid\, says
  SOLD\, and as they say: “the rest is history”. Call us t
 o L I S T your RARE Property or to have your name placed on 
 our "FIRST CONTACT" for RARE properties list. Whether you wa
 nt to buy or sell a RARE home\, farm\, lake\, or recreational p
 roperty call RARE Auction Group today. Thank you.   Robert 
 Alexander CIA\, Broker\, & Auctioneer   PS: See you Thursday 
 for all the personal property – the house and buildings ar
 e FULL! Absolute Estate Auction Thursday\, Aug. 10th • 10:0
 7am Call for Preview: (270) 556-5212 2925 N. US 45 • Metro
 polis\, IL +5 Acres • 3 BR\, 3 ½ BA • 3 Fireplaces • 3 
 Garages • Full Basement Near Hospitals\, Churches\, Schools\,
  Shopping\, Paducah & More!
URL:https://www.rareauctions.com/auctions/detail/bw104272
SEQUENCE:1
END:VEVENT
END:VCALENDAR