BEGIN:VCALENDAR
VERSION:2.0
PRODID:-//ExpressionEngine Easy iCalendar plugin//NONSGML v2.0.1//EN
X-WR-TIMEZONE:America/Chicago
X-WR-CALNAME:Upcoming Auctions
BEGIN:VEVENT
UID:104810
DTSTAMP:20230730T100700
DTSTART:20230730T100700
DTEND:20230817T100700
SUMMARY:ADVANCE NOTICE - MOBILE HOME AUCTION
LOCATION:{location}
DESCRIPTION:2018 Double Wide Mobile Home Located at 2565 Woodville RD\, W
 est Paducah\, KY.
URL:https://www.rareauctions.com/auctions/detail/bw104810
SEQUENCE:1
END:VEVENT
END:VCALENDAR