BEGIN:VCALENDAR
VERSION:2.0
PRODID:-//ExpressionEngine Easy iCalendar plugin//NONSGML v2.0.1//EN
X-WR-TIMEZONE:America/Chicago
X-WR-CALNAME:Upcoming Auctions
BEGIN:VEVENT
UID:105871
DTSTAMP:20230914T100700
DTSTART:20230914T100700
DTEND:20230914T110700
SUMMARY:ABSOLUTE LIVING ESTATE AUCTION - MAYFIELD-METROPOLIS RD\, PAD
 UCAH KY
LOCATION:2520 Mayfield-Metropolis Road\, Paducah\, KY 42001\, US
DESCRIPTION:2520 Mayfield-Metropolis Road • Paducah\, KY • +/-5 Acres
  • 2 Tracts • 3 BR\, 2 BA • +/-2898 Sq. Ft. Under Roof 
 • 2 Garages • Basement    
URL:https://www.rareauctions.com/auctions/detail/bw105871
SEQUENCE:1
END:VEVENT
END:VCALENDAR