BEGIN:VCALENDAR
VERSION:2.0
PRODID:-//ExpressionEngine Easy iCalendar plugin//NONSGML v2.0.1//EN
X-WR-TIMEZONE:America/Chicago
X-WR-CALNAME:Upcoming Auctions
BEGIN:VEVENT
UID:105874
DTSTAMP:20230824T100700
DTSTART:20230824T100700
DTEND:20230828T100700
SUMMARY:ONLINE ONLY AUCTION - AUGUST 2023
LOCATION:4000 Olivet Church Road\, Paducah\, KY 42001\, US
DESCRIPTION:ONLINE ONLY CONSIGNMENT AUCTION BEGINS: AUGUST 24TH\, 2023 AT
  10:07 AM BEGINS ENDING: AUGUST 28TH\, 2023 AT 10:07 AM PREVI
 EW AUGUST 24TH\, 2023 • 3:07 PM - 5:07PM PICK UP: AUGUST 30
 TH\, 2023 FROM 3:07-5:07 PM
URL:https://www.rareauctions.com/auctions/detail/bw105874
SEQUENCE:1
END:VEVENT
END:VCALENDAR