BEGIN:VCALENDAR
VERSION:2.0
PRODID:-//ExpressionEngine Easy iCalendar plugin//NONSGML v2.0.1//EN
X-WR-TIMEZONE:America/Chicago
X-WR-CALNAME:Upcoming Auctions
BEGIN:VEVENT
UID:107948
DTSTAMP:20231012T170700
DTSTART:20231012T170700
DTEND:20231012T180700
SUMMARY:ABSOLUTE ESTATE AUCTION - 2247 BENTON BRIENSBERG RD\, BENTON\,
  KY
LOCATION:2247 Benton Briensburg RD\, Benton\, KY 42025\, US
DESCRIPTION:Thursday\, October 12th • 5:07pm 2247 Benton Briensburg Roa
 d\, Benton KY Near Draffenville
URL:https://www.rareauctions.com/auctions/detail/bw107948
SEQUENCE:1
END:VEVENT
END:VCALENDAR