BEGIN:VCALENDAR
VERSION:2.0
PRODID:-//ExpressionEngine Easy iCalendar plugin//NONSGML v2.0.1//EN
X-WR-TIMEZONE:America/Chicago
X-WR-CALNAME:Upcoming Auctions
BEGIN:VEVENT
UID:108363
DTSTAMP:20231019T170700
DTSTART:20231019T170700
DTEND:20231019T180700
SUMMARY:Absolute Estate Auction - 230 Ridgewood Ave.\, Paducah\, KY
LOCATION:230 Ridgewood Avenue\, Paducah\, KY 42001\, US
DESCRIPTION:Auction Shuttle available from Kroger Parking Lot in Hannan 
 Plaza
URL:https://www.rareauctions.com/auctions/detail/bw108363
SEQUENCE:1
END:VEVENT
END:VCALENDAR