BEGIN:VCALENDAR
VERSION:2.0
PRODID:-//ExpressionEngine Easy iCalendar plugin//NONSGML v2.0.1//EN
X-WR-TIMEZONE:America/Chicago
X-WR-CALNAME:Upcoming Auctions
BEGIN:VEVENT
UID:109460
DTSTAMP:20231026T100700
DTSTART:20231026T100700
DTEND:20231030T100700
SUMMARY:ONLINE ONLY AUCTION 10/26-10/30/2023
LOCATION:4000 Olivet Church Road\, Paducah\, KY 42001\, US
DESCRIPTION:Preview: Thursday\, October 26th 3:07-5:07 PM\; Pick-Up: Wedne
 sday\, November 1st 3:07-5:07 PM
URL:https://www.rareauctions.com/auctions/detail/bw109460
SEQUENCE:1
END:VEVENT
END:VCALENDAR