BEGIN:VCALENDAR
VERSION:2.0
PRODID:-//ExpressionEngine Easy iCalendar plugin//NONSGML v2.0.1//EN
X-WR-TIMEZONE:America/Chicago
X-WR-CALNAME:Upcoming Auctions
BEGIN:VEVENT
UID:111805
DTSTAMP:20231214T100700
DTSTART:20231214T100700
DTEND:20231218T100700
SUMMARY:Online Only Equipment Auction
LOCATION:4000 Olivet Church Road\, Paducah\, KY 42001\, US
DESCRIPTION:ONLINE ONLY EQUIPMENT AUCTION Begins: Thursday\, December 14t
 h • 10:07 AM Begins Ending: Monday\, December 18th • 10:0
 7  Preview: Saturday\, December 16th • 1:07-3:07 PM Pick-U
 p: Wednesday\, December 20th   Tractors\, trucks\, trailers\, c
 lassics\, pickups\, ZTRs\, Side-by-Sides\, dump trucks\, excavato
 rs\, track hoes. Already consigned: 2016 Kenworth T680\; 2 - 2
 017 Kenworth T680s\; 2 +/-53’ Reefers\; 1 +/-53’ Cargo Tra
 iler\; 1976 Chevy 10 Speed Dump Truck\; 2001 GMC Sierra 4x4\; 2
 001 Chevy Silverado with Utility Bed\; 2003 Ford F250 Super D
 uty Turbo Diesel with SnowDogg Plow\; Grove 5-10 Ton All Terr
 ain Yard Crane\; Rotary 2 Post Auto Lift\; 1947 Oldsmobile 987
 \; 1948 Plymouth Business Coupe\; 1983 Ford F150 XLT - All Ori
 ginal\; John Deere 210 LJ\; 7 Ft. Drag-Type Kultipacker\; KRM-0
 360 Kioti 5 Ft. Finish Mower\; Honda Rancher 4 Wheeler. Open 
 daily 8-5\, closed 12-1.
URL:https://www.rareauctions.com/auctions/detail/bw111805
SEQUENCE:1
END:VEVENT
END:VCALENDAR