BEGIN:VCALENDAR
VERSION:2.0
PRODID:-//ExpressionEngine Easy iCalendar plugin//NONSGML v2.0.1//EN
X-WR-TIMEZONE:America/Chicago
X-WR-CALNAME:Upcoming Auctions
BEGIN:VEVENT
UID:113355
DTSTAMP:20240125T100700
DTSTART:20240125T100700
DTEND:20240125T110700
SUMMARY:Absolute Living Estate Auction - Exclusive West Park Village
  Courtyard
LOCATION:4904 West Towne Dive\, Paducah\, KY 42001\, US
DESCRIPTION:4904 West Towne Drive • Paducah\, KY
URL:https://www.rareauctions.com/auctions/detail/bw113355
SEQUENCE:1
END:VEVENT
END:VCALENDAR