BEGIN:VCALENDAR
VERSION:2.0
PRODID:-//ExpressionEngine Easy iCalendar plugin//NONSGML v2.0.1//EN
X-WR-TIMEZONE:America/Chicago
X-WR-CALNAME:Upcoming Auctions
BEGIN:VEVENT
UID:113640
DTSTAMP:20240208T100700
DTSTART:20240208T100700
DTEND:20240208T110700
SUMMARY:Absolute Living Estate Auction • 6345 McNutt Drive\, Paduca
 h\, KY
LOCATION:6345 McNutt Drive\, Paducah\, KY 42001\, US
DESCRIPTION:Tract 1: 3 BR\, 2 BA Home • +/-1.46 Partially Wooded\; Tract
  2: Adjoining +/-1 Acre Beautiful Partially Wooded Hillside 
 Home Site\; Offered Separate & Combined!
URL:https://www.rareauctions.com/auctions/detail/bw113640
SEQUENCE:1
END:VEVENT
END:VCALENDAR