BEGIN:VCALENDAR
VERSION:2.0
PRODID:-//ExpressionEngine Easy iCalendar plugin//NONSGML v2.0.1//EN
X-WR-TIMEZONE:America/Chicago
X-WR-CALNAME:Upcoming Auctions
BEGIN:VEVENT
UID:114045
DTSTAMP:20240201T100700
DTSTART:20240201T100700
DTEND:20240205T100700
SUMMARY:Online Only Auction Feb 1-Feb 5\, 2024
LOCATION:4000 Olivet Church Rd.\, Paducah\, KY 42001\, US
DESCRIPTION:Preview: Friday\, February 2\, from 3:07-5:07PM Pick-up: Sched
 uled Times February 7th between 9:07 AM-4:37 PM
URL:https://www.rareauctions.com/auctions/detail/bw114045
SEQUENCE:1
END:VEVENT
END:VCALENDAR