BEGIN:VCALENDAR
VERSION:2.0
PRODID:-//ExpressionEngine Easy iCalendar plugin//NONSGML v2.0.1//EN
X-WR-TIMEZONE:America/Chicago
X-WR-CALNAME:Upcoming Auctions
BEGIN:VEVENT
UID:114371
DTSTAMP:20240229T100700
DTSTART:20240229T100700
DTEND:20240229T110700
SUMMARY:Absolute Living Estate Auction • 109 Padgett Drive\, Clinto
 n\, KY
LOCATION:109 Padgett Drive\, Clinton\, KY 42031\, US
DESCRIPTION:109 Padgett Drive\, Clinton\, KY 42031
URL:https://www.rareauctions.com/auctions/detail/bw114371
SEQUENCE:1
END:VEVENT
END:VCALENDAR