BEGIN:VCALENDAR
VERSION:2.0
PRODID:-//ExpressionEngine Easy iCalendar plugin//NONSGML v2.0.1//EN
X-WR-TIMEZONE:America/Chicago
X-WR-CALNAME:Upcoming Auctions
BEGIN:VEVENT
UID:114593
DTSTAMP:20240222T100700
DTSTART:20240222T100700
DTEND:20240222T110700
SUMMARY:Absolute Living Estate Auction • 769 Red River RD\, Gilbert
 sville\, KY
LOCATION:769 Red River RD\, Gilbertsville\, KY 42044\, US
DESCRIPTION:769 Red River RD\, Gilbertsville\, KY  42044
URL:https://www.rareauctions.com/auctions/detail/bw114593
SEQUENCE:1
END:VEVENT
END:VCALENDAR