BEGIN:VCALENDAR
VERSION:2.0
PRODID:-//ExpressionEngine Easy iCalendar plugin//NONSGML v2.0.1//EN
X-WR-TIMEZONE:America/Chicago
X-WR-CALNAME:Upcoming Auctions
BEGIN:VEVENT
UID:115065
DTSTAMP:20240307T100700
DTSTART:20240307T100700
DTEND:20240307T110700
SUMMARY:Absolute Estate Auction • 2535 West Crossroads Road\, Vienn
 a\, IL
LOCATION:2535 West Crossroads Road\, Vienna\, IL 62995\, US
DESCRIPTION:Real Estate Open House: Sat. March 2nd\, 2024 1:07-3:07 PM
URL:https://www.rareauctions.com/auctions/detail/bw115065
SEQUENCE:1
END:VEVENT
END:VCALENDAR