BEGIN:VCALENDAR
VERSION:2.0
PRODID:-//ExpressionEngine Easy iCalendar plugin//NONSGML v2.0.1//EN
X-WR-TIMEZONE:America/Chicago
X-WR-CALNAME:Upcoming Auctions
BEGIN:VEVENT
UID:116609
DTSTAMP:20240321T100700
DTSTART:20240321T100700
DTEND:20240325T100700
SUMMARY:Online Only Auction March 21-25\, 2024
LOCATION:4000 Olivet Church Road\, Paducah\, KY 42001\, US
DESCRIPTION:Preview:  Thurs\, March 21\, From 3:07-5:07PM Pick-Up:  Wed.
 \, March 27th (Times to be scheduled with winning bidders at 
 the conclusion of the auction) ** NO SHIPPING AVAILABLE AT T
 HIS AUCTION **
URL:https://www.rareauctions.com/auctions/detail/bw116609
SEQUENCE:1
END:VEVENT
END:VCALENDAR