BEGIN:VCALENDAR
VERSION:2.0
PRODID:-//ExpressionEngine Easy iCalendar plugin//NONSGML v2.0.1//EN
X-WR-TIMEZONE:America/Chicago
X-WR-CALNAME:Upcoming Auctions
BEGIN:VEVENT
UID:117353
DTSTAMP:20240404T100700
DTSTART:20240404T100700
DTEND:20240404T110700
SUMMARY:Absolute Estate Auction • 709 E. 1st ST\, Karnak\, IL
LOCATION:709 East 1st ST\, Karnak\, IL 62956\, US
DESCRIPTION:709 E. 1st ST\, Karnak\, IL 62956
URL:https://www.rareauctions.com/auctions/detail/bw117353
SEQUENCE:1
END:VEVENT
END:VCALENDAR