BEGIN:VCALENDAR
VERSION:2.0
PRODID:-//ExpressionEngine Easy iCalendar plugin//NONSGML v2.0.1//EN
X-WR-TIMEZONE:America/Chicago
X-WR-CALNAME:Upcoming Auctions
BEGIN:VEVENT
UID:117600
DTSTAMP:20240404T100700
DTSTART:20240404T100700
DTEND:20240404T110700
SUMMARY:Absolute Estate Auction • 897 S. Franklin ST\, Karnak\, IL
LOCATION:897 S. Franklin ST\, Karnak\, IL 62956\, US
DESCRIPTION:+/-5 Acre Mini Farm - 897 S. Franklin ST\, Karnak\, IL 62956
URL:https://www.rareauctions.com/auctions/detail/bw117600
SEQUENCE:1
END:VEVENT
END:VCALENDAR