BEGIN:VCALENDAR
VERSION:2.0
PRODID:-//ExpressionEngine Easy iCalendar plugin//NONSGML v2.0.1//EN
X-WR-TIMEZONE:America/Chicago
X-WR-CALNAME:Upcoming Auctions
BEGIN:VEVENT
UID:117981
DTSTAMP:20240418T100700
DTSTART:20240418T100700
DTEND:20240418T110700
SUMMARY:Absolute Estate Auction • 5306 State Route 131\, Hickory\, K
 Y
LOCATION:5306 STATE ROUTE 131\, HICKORY\, KY 42055\, US
DESCRIPTION:Absolute Estate Auction • Thursday\, April 18\, 2024 • 10:
 07AM  ±28 Acres • Tracts • Timber *Real estate auction
  (land\, log cabin and home)will be held/sold at RARE Auction
  Center\, 4000 Olivet Church RD\, Paducah\, KY FIRST\, at 10:0
 7 AM The personal property Will be sold at the home at 1:07 
 pm*
URL:https://www.rareauctions.com/auctions/detail/bw117981
SEQUENCE:1
END:VEVENT
END:VCALENDAR