BEGIN:VCALENDAR
VERSION:2.0
PRODID:-//ExpressionEngine Easy iCalendar plugin//NONSGML v2.0.1//EN
X-WR-TIMEZONE:America/Chicago
X-WR-CALNAME:Upcoming Auctions
BEGIN:VEVENT
UID:118750
DTSTAMP:20240502T100700
DTSTART:20240502T100700
DTEND:20240502T110700
SUMMARY:ABSOLUTE ESTATE AUCTION • 9400 Childress Road\, West Paduca
 h\, KY
LOCATION:9400 Childress Road\, West Paducah\, KY 42086\, US
DESCRIPTION:  +/-23 Acres • 5 TRS • Home 
URL:https://www.rareauctions.com/auctions/detail/bw118750
SEQUENCE:1
END:VEVENT
END:VCALENDAR