BEGIN:VCALENDAR
VERSION:2.0
PRODID:-//ExpressionEngine Easy iCalendar plugin//NONSGML v2.0.1//EN
X-WR-TIMEZONE:America/Chicago
X-WR-CALNAME:Upcoming Auctions
BEGIN:VEVENT
UID:119589
DTSTAMP:20240501T100700
DTSTART:20240501T100700
DTEND:20240508T100700
SUMMARY:Online Only Auction 5/1-5/6/24
LOCATION:4000 OLIVET CHURCH RD\, PADUCAH\, KY 42001\, US
DESCRIPTION:Bidding Extended to Wednesday\, May 8th
URL:https://www.rareauctions.com/auctions/detail/bw119589
SEQUENCE:1
END:VEVENT
END:VCALENDAR