BEGIN:VCALENDAR
VERSION:2.0
PRODID:-//ExpressionEngine Easy iCalendar plugin//NONSGML v2.0.1//EN
X-WR-TIMEZONE:America/Chicago
X-WR-CALNAME:Upcoming Auctions
BEGIN:VEVENT
UID:120095
DTSTAMP:20240523T100700
DTSTART:20240523T100700
DTEND:20240523T110700
SUMMARY:ABSOLUTE ESTATE AUCTION • HWY 62\, 95 & 15TH Street\, Calver
 t City\, KY
LOCATION:4900 US HWY 62\, Calvert City\, KY 42066\, US
DESCRIPTION:PRIME ±50 ACRES • ±1700Ft. FRONTAGE • 4 TRACTS
URL:https://www.rareauctions.com/auctions/detail/bw120095
SEQUENCE:1
END:VEVENT
END:VCALENDAR