BEGIN:VCALENDAR
VERSION:2.0
PRODID:-//ExpressionEngine Easy iCalendar plugin//NONSGML v2.0.1//EN
X-WR-TIMEZONE:America/Chicago
X-WR-CALNAME:Upcoming Auctions
BEGIN:VEVENT
UID:120449
DTSTAMP:20240530T100700
DTSTART:20240530T100700
DTEND:20240530T110700
SUMMARY:ABSOLUTE ESTATE AUCTION â€¢ 2722 ADAMS STREET â€¢ PADUCAH\, K
 Y
LOCATION:2722 Adams Street\, Paducah\, KY 42003\, US
DESCRIPTION:Â±1241 Sq. Ft. Under Roof â€¢ Â±1 to 3 Bedrooms â€¢ 1 Bath â
 €¢ Garage
URL:https://www.rareauctions.com/auctions/detail/bw120449
SEQUENCE:1
END:VEVENT
END:VCALENDAR