BEGIN:VCALENDAR
VERSION:2.0
PRODID:-//ExpressionEngine Easy iCalendar plugin//NONSGML v2.0.1//EN
X-WR-TIMEZONE:America/Chicago
X-WR-CALNAME:Upcoming Auctions
BEGIN:VEVENT
UID:121516
DTSTAMP:20240618T100700
DTSTART:20240618T100700
DTEND:20240618T110700
SUMMARY:Absolute Estate Auction • 724 Country Road\, Grand Rivers\, 
 KY
LOCATION:724 Country Road\, Grand Rivers\, KY 42045\, US
DESCRIPTION:±5 Acres • 2 Homes • ±24x30 Pole Barn
URL:https://www.rareauctions.com/auctions/detail/bw121516
SEQUENCE:1
END:VEVENT
END:VCALENDAR