BEGIN:VCALENDAR
VERSION:2.0
PRODID:-//ExpressionEngine Easy iCalendar plugin//NONSGML v2.0.1//EN
X-WR-TIMEZONE:America/Chicago
X-WR-CALNAME:Upcoming Auctions
BEGIN:VEVENT
UID:121533
DTSTAMP:20240620T100700
DTSTART:20240620T100700
DTEND:20240620T110700
SUMMARY:Absolute Estate Auction • 286 Red River Road\, Gilbertsvill
 e\, KY
LOCATION:286 Red River Road\, Gilbertsville\, KY 42044\, US
DESCRIPTION:Vacation Land of America - Just in time for Summer Fun!
URL:https://www.rareauctions.com/auctions/detail/bw121533
SEQUENCE:1
END:VEVENT
END:VCALENDAR