BEGIN:VCALENDAR
VERSION:2.0
PRODID:-//ExpressionEngine Easy iCalendar plugin//NONSGML v2.0.1//EN
X-WR-TIMEZONE:America/Chicago
X-WR-CALNAME:Upcoming Auctions
BEGIN:VEVENT
UID:122149
DTSTAMP:20240627T100700
DTSTART:20240627T100700
DTEND:20240627T110700
SUMMARY:Absolute Estate Auction • 2420 Clay Street\, Paducah
LOCATION:2420 Clay Street\, Paducah\, KY 42001\, US
DESCRIPTION:±1\,507 Sq. Ft. • 4 Bedroom\, 2 Bath Home
URL:https://www.rareauctions.com/auctions/detail/bw122149
SEQUENCE:1
END:VEVENT
END:VCALENDAR