BEGIN:VCALENDAR
VERSION:2.0
PRODID:-//ExpressionEngine Easy iCalendar plugin//NONSGML v2.0.1//EN
X-WR-TIMEZONE:America/Chicago
X-WR-CALNAME:Upcoming Auctions
BEGIN:VEVENT
UID:122657
DTSTAMP:20240711T100700
DTSTART:20240711T100700
DTEND:20240711T110700
SUMMARY:Absolute Estate Auctions • 9 Properties\, 5 Locations
LOCATION:4000 Olivet Church Road\, Paducah\, KY 42001\, US
DESCRIPTION:9 Properties\, 5 Locations
URL:https://www.rareauctions.com/auctions/detail/bw122657
SEQUENCE:1
END:VEVENT
END:VCALENDAR