BEGIN:VCALENDAR
VERSION:2.0
PRODID:-//ExpressionEngine Easy iCalendar plugin//NONSGML v2.0.1//EN
X-WR-TIMEZONE:America/Chicago
X-WR-CALNAME:Upcoming Auctions
BEGIN:VEVENT
UID:123457
DTSTAMP:20240824T100700
DTSTART:20240824T100700
DTEND:20240824T110700
SUMMARY:I-24 Fill-Er-Up Gas & Oil Show/Auction
LOCATION:4000 Olivet Church Road\, Paducah\, KY 42001\, US
DESCRIPTION:Vintage Advertising & Memorabilia Auction • Rotary Club of
  Paducah Gear Tooth Car Show
URL:https://www.rareauctions.com/auctions/detail/bw123457
SEQUENCE:1
END:VEVENT
END:VCALENDAR