BEGIN:VCALENDAR
VERSION:2.0
PRODID:-//ExpressionEngine Easy iCalendar plugin//NONSGML v2.0.1//EN
X-WR-TIMEZONE:America/Chicago
X-WR-CALNAME:Upcoming Auctions
BEGIN:VEVENT
UID:123491
DTSTAMP:20240725T100700
DTSTART:20240725T100700
DTEND:20240725T110700
SUMMARY:Absolute Estate Auction • 7/25/24
LOCATION:1037 US Hwy 60 West\, Smithland\, KY 42081\, US
DESCRIPTION:±2550 Sq. Ft. Under Roof • 3 Bedrooms\, 3 Baths • 2 Gara
 ges
URL:https://www.rareauctions.com/auctions/detail/bw123491
SEQUENCE:1
END:VEVENT
END:VCALENDAR