BEGIN:VCALENDAR
VERSION:2.0
PRODID:-//ExpressionEngine Easy iCalendar plugin//NONSGML v2.0.1//EN
X-WR-TIMEZONE:America/Chicago
X-WR-CALNAME:Upcoming Auctions
BEGIN:VEVENT
UID:123828
DTSTAMP:20240808T100700
DTSTART:20240808T100700
DTEND:20240808T110700
SUMMARY:Absolute Estate Auction • August 8th\, 2024
LOCATION:43 W. 2nd Avenue\, Calvert City\, KY 42029\, US
DESCRIPTION:At the home of the late James Luther Draffen & Annie Lou "Su
 e" Draffen!
URL:https://www.rareauctions.com/auctions/detail/bw123828
SEQUENCE:1
END:VEVENT
END:VCALENDAR