BEGIN:VCALENDAR
VERSION:2.0
PRODID:-//ExpressionEngine Easy iCalendar plugin//NONSGML v2.0.1//EN
X-WR-TIMEZONE:America/Chicago
X-WR-CALNAME:Upcoming Auctions
BEGIN:VEVENT
UID:124296
DTSTAMP:20240822T100700
DTSTART:20240822T100700
DTEND:20240827T100700
SUMMARY:Online Only Auction 8/22-8/27/24
LOCATION:4000 Olivet Church Road\, Paducah\, KY 42001\, US
DESCRIPTION:Preview: Monday\, August 26th from 3:07-5:07 PM at RARE Aucti
 on Center: 4000 Olivet Church Road in Paducah\, KY
URL:https://www.rareauctions.com/auctions/detail/bw124296
SEQUENCE:1
END:VEVENT
END:VCALENDAR