BEGIN:VCALENDAR
VERSION:2.0
PRODID:-//ExpressionEngine Easy iCalendar plugin//NONSGML v2.0.1//EN
X-WR-TIMEZONE:America/Chicago
X-WR-CALNAME:Upcoming Auctions
BEGIN:VEVENT
UID:124623
DTSTAMP:20240815T100700
DTSTART:20240815T100700
DTEND:20240815T110700
SUMMARY:Absolute Estate Auction • 8/15/24
LOCATION:2901 Mississippi Street\, Paducah\, KY 42003\, US
DESCRIPTION:±1065 Sq. Ft. • 3 Bedrooms\, 1 or 2 Baths • Detached Gar
 age
URL:https://www.rareauctions.com/auctions/detail/bw124623
SEQUENCE:1
END:VEVENT
END:VCALENDAR