BEGIN:VCALENDAR
VERSION:2.0
PRODID:-//ExpressionEngine Easy iCalendar plugin//NONSGML v2.0.1//EN
X-WR-TIMEZONE:America/Chicago
X-WR-CALNAME:Upcoming Auctions
BEGIN:VEVENT
UID:124935
DTSTAMP:20240820T170700
DTSTART:20240820T170700
DTEND:20240820T180700
SUMMARY:Absolute Estate Auction • 8/20/24
LOCATION:2370 McKendree Church Road\, Kevil\, KY 42053\, US
DESCRIPTION:2370 McKendree Ch. Rd. • Kevil\, KY Majestic ±2775 Sq. Ft.
  • ±21 Acres • 4 Bed\, 1 Bath
URL:https://www.rareauctions.com/auctions/detail/bw124935
SEQUENCE:1
END:VEVENT
END:VCALENDAR