BEGIN:VCALENDAR
VERSION:2.0
PRODID:-//ExpressionEngine Easy iCalendar plugin//NONSGML v2.0.1//EN
X-WR-TIMEZONE:America/Chicago
X-WR-CALNAME:Upcoming Auctions
BEGIN:VEVENT
UID:125797
DTSTAMP:20240905T100700
DTSTART:20240905T100700
DTEND:20240905T110700
SUMMARY:Absolute Living Estate Auction • 9/5/24
LOCATION:4000 Olivet Church Road\, Paducah\, KY 42001\, US
DESCRIPTION:3 Commercial Buildings • 2 or 3 BR Apt. • Car Lot 1705\, 
 1629\, & 1591 Tennessee St. • Paducah\, KY  
URL:https://www.rareauctions.com/auctions/detail/bw125797
SEQUENCE:1
END:VEVENT
END:VCALENDAR