BEGIN:VCALENDAR
VERSION:2.0
PRODID:-//ExpressionEngine Easy iCalendar plugin//NONSGML v2.0.1//EN
X-WR-TIMEZONE:America/Chicago
X-WR-CALNAME:Upcoming Auctions
BEGIN:VEVENT
UID:126375
DTSTAMP:20240912T100700
DTSTART:20240912T100700
DTEND:20240912T110700
SUMMARY:Absolute Auction • 9/12/24
LOCATION:5732 Benton Road\, Paducah\, KY 42003\, US
DESCRIPTION:Tri-Plex/Duplex in the heart of Reidland!
URL:https://www.rareauctions.com/auctions/detail/bw126375
SEQUENCE:1
END:VEVENT
END:VCALENDAR