BEGIN:VCALENDAR
VERSION:2.0
PRODID:-//ExpressionEngine Easy iCalendar plugin//NONSGML v2.0.1//EN
X-WR-TIMEZONE:America/Chicago
X-WR-CALNAME:Upcoming Auctions
BEGIN:VEVENT
UID:126772
DTSTAMP:20240919T100700
DTSTART:20240919T100700
DTEND:20240919T110700
SUMMARY:Absolute Living Estate Auction • 9/19/24
LOCATION:1010 Clarks Ferry Road\, Ledbetter\, KY 42058\, US
DESCRIPTION:4 Bedroom\, 2 Bath Home • ±30x24 Ft. Garage
URL:https://www.rareauctions.com/auctions/detail/bw126772
SEQUENCE:1
END:VEVENT
END:VCALENDAR