BEGIN:VCALENDAR
VERSION:2.0
PRODID:-//ExpressionEngine Easy iCalendar plugin//NONSGML v2.0.1//EN
X-WR-TIMEZONE:America/Chicago
X-WR-CALNAME:Upcoming Auctions
BEGIN:VEVENT
UID:127187
DTSTAMP:20240926T100700
DTSTART:20240926T100700
DTEND:20240926T110700
SUMMARY:Absolute Auction • 9/26/24 • 10:07 AM
LOCATION:1285 Cypress Road\, Benton\, KY 42025\, US
DESCRIPTION:±41 Acres • Tracts • Brick Home
URL:https://www.rareauctions.com/auctions/detail/bw127187
SEQUENCE:1
END:VEVENT
END:VCALENDAR