BEGIN:VCALENDAR
VERSION:2.0
PRODID:-//ExpressionEngine Easy iCalendar plugin//NONSGML v2.0.1//EN
X-WR-TIMEZONE:America/Chicago
X-WR-CALNAME:Upcoming Auctions
BEGIN:VEVENT
UID:127195
DTSTAMP:20240926T170700
DTSTART:20240926T170700
DTEND:20240926T180700
SUMMARY:Absolute Auction • 9/26/24 • 5:07 PM
LOCATION:12430 Childress Road\, Kevil\, KY 42053\, US
DESCRIPTION:±49.4 Acres • 4 Tracts • McCracken County
URL:https://www.rareauctions.com/auctions/detail/bw127195
SEQUENCE:1
END:VEVENT
END:VCALENDAR