BEGIN:VCALENDAR
VERSION:2.0
PRODID:-//ExpressionEngine Easy iCalendar plugin//NONSGML v2.0.1//EN
X-WR-TIMEZONE:America/Chicago
X-WR-CALNAME:Upcoming Auctions
BEGIN:VEVENT
UID:127593
DTSTAMP:20241003T100700
DTSTART:20241003T100700
DTEND:20241003T110700
SUMMARY:Absolute Estate Auction • 10/3/24
LOCATION:10050 Old US Hwy 60\, Kevil\, KY 42053\, US
DESCRIPTION:2 Tracts on Old US Hwy 60 in McCracken County!
URL:https://www.rareauctions.com/auctions/detail/bw127593
SEQUENCE:1
END:VEVENT
END:VCALENDAR