BEGIN:VCALENDAR
VERSION:2.0
PRODID:-//ExpressionEngine Easy iCalendar plugin//NONSGML v2.0.1//EN
X-WR-TIMEZONE:America/Chicago
X-WR-CALNAME:Upcoming Auctions
BEGIN:VEVENT
UID:128002
DTSTAMP:20241010T100700
DTSTART:20241010T100700
DTEND:20241010T110700
SUMMARY:Absolute Auction • 10/10/24
LOCATION:12310 Childress Road\, Kevil\, KY 42053\, US
DESCRIPTION:±3000 Sq. Ft. Under Roof • ±2 Acres
URL:https://www.rareauctions.com/auctions/detail/bw128002
SEQUENCE:1
END:VEVENT
END:VCALENDAR