BEGIN:VCALENDAR
VERSION:2.0
PRODID:-//ExpressionEngine Easy iCalendar plugin//NONSGML v2.0.1//EN
X-WR-TIMEZONE:America/Chicago
X-WR-CALNAME:Upcoming Auctions
BEGIN:VEVENT
UID:128483
DTSTAMP:20241017T100700
DTSTART:20241017T100700
DTEND:20241017T110700
SUMMARY:Auction • 10/17/24
LOCATION:411 Jefferson Street\, Paducah\, KY 42001\, US
DESCRIPTION:Fully Sprinkled Commercial Building
URL:https://www.rareauctions.com/auctions/detail/bw128483
SEQUENCE:1
END:VEVENT
END:VCALENDAR