BEGIN:VCALENDAR
VERSION:2.0
PRODID:-//ExpressionEngine Easy iCalendar plugin//NONSGML v2.0.1//EN
X-WR-TIMEZONE:America/Chicago
X-WR-CALNAME:Upcoming Auctions
BEGIN:VEVENT
UID:128489
DTSTAMP:20241024T100700
DTSTART:20241024T100700
DTEND:20241028T100700
SUMMARY:Online Only Auction
LOCATION:4000 Olivet Church Road\, Paducah\, KY 42001\, US
DESCRIPTION:Online Only Coin Auction
URL:https://www.rareauctions.com/auctions/detail/bw128489
SEQUENCE:1
END:VEVENT
END:VCALENDAR